﻿BEGIN:VCALENDAR
VERSION:2.0
PRODID:-//HowardFarran.com - ECPv5.2.1.1//NONSGML v1.0//EN
CALSCALE:GREGORIAN
METHOD:PUBLISH
X-WR-CALNAME:HowardFarran.com
X-ORIGINAL-URL:https://www.howardfarran.com
X-WR-CALDESC:Events for HowardFarran.com
BEGIN:VTIMEZONE
TZID:America/New_York
BEGIN:DAYLIGHT
TZOFFSETFROM:-0500
TZOFFSETTO:-0400
TZNAME:EDT
DTSTART:20160313T070000
END:DAYLIGHT
BEGIN:STANDARD
TZOFFSETFROM:-0400
TZOFFSETTO:-0500
TZNAME:EST
DTSTART:20161106T060000
END:STANDARD
END:VTIMEZONE
BEGIN:VEVENT
DTSTART;TZID=America/New_York:20160512T130000
DTEND;TZID=America/New_York:20160512T130000
DTSTAMP:20260425T103342
CREATED:20160204T192350Z
LAST-MODIFIED:20160204T192350Z
UID:5677-1463058000-1463058000@www.howardfarran.com
SUMMARY:American Assoc. of Dental Consultants
DESCRIPTION:For more information on this lecture: Contact American Association of Dental Consultants \nphone:800-896-0707 http://www.aadc.org/SpringWorkshop/2016Workshop/ \n  \nDr. Farran’s Seminar Coordinator is: Rebecca Parent rebecca@farranmedia.com
URL:https://www.howardfarran.com/event/american-assoc-of-dental-consultants/
LOCATION:Hyatt Grand Cypress\, 1 Grand Cypress Blvd\, Orlando\, 32836\, United States
END:VEVENT
END:VCALENDAR