﻿BEGIN:VCALENDAR
VERSION:2.0
PRODID:-//HowardFarran.com - ECPv5.2.1.1//NONSGML v1.0//EN
CALSCALE:GREGORIAN
METHOD:PUBLISH
X-WR-CALNAME:HowardFarran.com
X-ORIGINAL-URL:https://www.howardfarran.com
X-WR-CALDESC:Events for HowardFarran.com
BEGIN:VTIMEZONE
TZID:America/Phoenix
BEGIN:STANDARD
TZOFFSETFROM:-0700
TZOFFSETTO:-0700
TZNAME:MST
DTSTART:20180101T000000
END:STANDARD
END:VTIMEZONE
BEGIN:VEVENT
DTSTART;TZID=America/Phoenix:20180107T080000
DTEND;TZID=America/Phoenix:20180107T100000
DTSTAMP:20260425T180942
CREATED:20171010T162537Z
LAST-MODIFIED:20171106T203405Z
UID:5785-1515312000-1515319200@www.howardfarran.com
SUMMARY:American Student Dental Association Tempe AZ
DESCRIPTION:For more information contact Christine Chen our District 10 Trustee email:  christinechendistrict10@gmail.com \nHoward will speak to students Sunday morning at 8am \nLocation:  ASU 301 E Orange St\, Tempe\, AZ 85281
URL:https://www.howardfarran.com/event/american-student-dental-association-tempe-az/
END:VEVENT
END:VCALENDAR