﻿BEGIN:VCALENDAR
VERSION:2.0
PRODID:-//HowardFarran.com - ECPv5.2.1.1//NONSGML v1.0//EN
CALSCALE:GREGORIAN
METHOD:PUBLISH
X-WR-CALNAME:HowardFarran.com
X-ORIGINAL-URL:https://www.howardfarran.com
X-WR-CALDESC:Events for HowardFarran.com
BEGIN:VTIMEZONE
TZID:America/Phoenix
BEGIN:STANDARD
TZOFFSETFROM:-0700
TZOFFSETTO:-0700
TZNAME:MST
DTSTART:20140101T000000
END:STANDARD
END:VTIMEZONE
BEGIN:VEVENT
DTSTART;VALUE=DATE:20141023
DTEND;VALUE=DATE:20141024
DTSTAMP:20260425T180908
CREATED:20131212T203233Z
LAST-MODIFIED:20150430T221654Z
UID:3829-1414022400-1414108799@www.howardfarran.com
SUMMARY:Annual Fall Seminar
DESCRIPTION:For more information on this lecture:  \nDr. Joseph R. Nemeth\, DDS & Associates\nwww.drnemeth.com \nDon Tremblay\n248-357-3100 \nSurburban Collection Showplace\n46100 Grand River\nNovi\, MI 48374 \n \nDr. Farran’s Seminar Coordinator is:\nRebecca Parent\nrebecca@farranmedia.com
URL:https://www.howardfarran.com/event/annual-fall-seminar/
LOCATION:Surburban Collection Showplace\, 46100 Grand River\, Novi\, MI\, 48374\, United States
CATEGORIES:2014 Lecture Schedule
END:VEVENT
END:VCALENDAR