﻿BEGIN:VCALENDAR
VERSION:2.0
PRODID:-//HowardFarran.com - ECPv5.2.1.1//NONSGML v1.0//EN
CALSCALE:GREGORIAN
METHOD:PUBLISH
X-WR-CALNAME:HowardFarran.com
X-ORIGINAL-URL:https://www.howardfarran.com
X-WR-CALDESC:Events for HowardFarran.com
BEGIN:VTIMEZONE
TZID:America/Phoenix
BEGIN:STANDARD
TZOFFSETFROM:-0700
TZOFFSETTO:-0700
TZNAME:MST
DTSTART:20130101T000000
END:STANDARD
END:VTIMEZONE
BEGIN:VEVENT
DTSTART;VALUE=DATE:20130623
DTEND;VALUE=DATE:20130701
DTSTAMP:20260425T164237
CREATED:20121207T184819Z
LAST-MODIFIED:20150430T223952Z
UID:2441-1371945600-1372636799@www.howardfarran.com
SUMMARY:Asteto Dent Labs Cruise - Ft Lauderdale\, Bahamas\, St Marteen\, St Thomas
DESCRIPTION:CRUISE June 23-30 \nMega-Ship “ALLURE”  \nJoin us on Royal Carribean’s mega-ship ‘Allure’ with its own Central Park and Boardwalk! June 23-30 7 nights featuring Dr Howard Farran (CEO\,Dentaltown) on ‘The Dental MBA’ (12 hours of continuing ed while the ship is at sea in its beautiful conference facility)! \nThe ship leaves from Ft Lauderdale\,Florida June 23rd Sunday\, and travels to Nassau(Bahamas)\, St Thomas\, and St Marteen! \nReserve asap for best cabin selections (no penalty deposits held for cabins until April 1st) as the ship will sell out (5400 people!).  \nTuition for the course is $289/Dr and $99/staff member. You must book your travel in our group (by calling 1-800-447-7750 for details) to attend the course. \nSponsored by Asteto Dent labs (Maplewood\,NJ) asteto.com \n973-763-1000 \n  \nDr. Farran’s Seminar Coordinator is: \nRebecca Parent- 480-445-9712 \nrebecca@farranmedia.com
URL:https://www.howardfarran.com/event/asteto-dent-labs-cruise/
CATEGORIES:2013 Lecture Schedule
END:VEVENT
END:VCALENDAR