﻿BEGIN:VCALENDAR
VERSION:2.0
PRODID:-//HowardFarran.com - ECPv5.2.1.1//NONSGML v1.0//EN
CALSCALE:GREGORIAN
METHOD:PUBLISH
X-WR-CALNAME:HowardFarran.com
X-ORIGINAL-URL:https://www.howardfarran.com
X-WR-CALDESC:Events for HowardFarran.com
BEGIN:VTIMEZONE
TZID:America/Phoenix
BEGIN:STANDARD
TZOFFSETFROM:-0700
TZOFFSETTO:-0700
TZNAME:MST
DTSTART:20130101T000000
END:STANDARD
END:VTIMEZONE
BEGIN:VEVENT
DTSTART;VALUE=DATE:20130622
DTEND;VALUE=DATE:20130623
DTSTAMP:20260425T204504
CREATED:20121207T184522Z
LAST-MODIFIED:20150430T224021Z
UID:2431-1371859200-1371945599@www.howardfarran.com
SUMMARY:Asteto Dent Labs - Fort Lauderdale\, FL
DESCRIPTION:For more information on this lecture:  \nAsteto Dent Labs\nwww.asteto.com \nMarc Daichman\nmdaich@aol.com\n800-447-7750 \n \nDr. Farran’s Seminar Coordinator is:\nRebecca Parent\nrebecca@farranmedia.com
URL:https://www.howardfarran.com/event/asteto-dent-labs-fort-lauderdale-fl/
LOCATION:Embassy Suites Ft. Lauderdale\, 1100 SE 17th Street\, Ft. Lauderdale\, FL\, 33316\, United States
CATEGORIES:2013 Lecture Schedule
ORGANIZER;CN="Marc%20Daichman":MAILTO:mdaich@aol.com
END:VEVENT
END:VCALENDAR