﻿BEGIN:VCALENDAR
VERSION:2.0
PRODID:-//HowardFarran.com - ECPv5.2.1.1//NONSGML v1.0//EN
CALSCALE:GREGORIAN
METHOD:PUBLISH
X-WR-CALNAME:HowardFarran.com
X-ORIGINAL-URL:https://www.howardfarran.com
X-WR-CALDESC:Events for HowardFarran.com
BEGIN:VTIMEZONE
TZID:America/Phoenix
BEGIN:STANDARD
TZOFFSETFROM:-0700
TZOFFSETTO:-0700
TZNAME:MST
DTSTART:20160101T000000
END:STANDARD
END:VTIMEZONE
BEGIN:VEVENT
DTSTART;TZID=America/Phoenix:20160513T180000
DTEND;TZID=America/Phoenix:20160513T210000
DTSTAMP:20260425T164249
CREATED:20160517T183044Z
LAST-MODIFIED:20160517T183044Z
UID:5700-1463162400-1463173200@www.howardfarran.com
SUMMARY:Asteto Dental Labs
DESCRIPTION:For more details call 800-447-7750 Marc
URL:https://www.howardfarran.com/event/asteto-dental-labs-2/
LOCATION:Jacques Caterers\, Palmer Ave\, Middletown\, NJ\, United States
END:VEVENT
END:VCALENDAR