﻿BEGIN:VCALENDAR
VERSION:2.0
PRODID:-//HowardFarran.com - ECPv5.2.1.1//NONSGML v1.0//EN
CALSCALE:GREGORIAN
METHOD:PUBLISH
X-WR-CALNAME:HowardFarran.com
X-ORIGINAL-URL:https://www.howardfarran.com
X-WR-CALDESC:Events for HowardFarran.com
BEGIN:VTIMEZONE
TZID:America/Phoenix
BEGIN:STANDARD
TZOFFSETFROM:-0700
TZOFFSETTO:-0700
TZNAME:MST
DTSTART:20160101T000000
END:STANDARD
END:VTIMEZONE
BEGIN:VEVENT
DTSTART;TZID=America/Phoenix:20161014T080000
DTEND;TZID=America/Phoenix:20161014T080000
DTSTAMP:20260425T180853
CREATED:20160204T194612Z
LAST-MODIFIED:20160816T202250Z
UID:5679-1476432000-1476432000@www.howardfarran.com
SUMMARY:Asteto Dental Labs
DESCRIPTION:For more information on this lecture: Contact Marc Daich email mdiach@aol.com \nDr. Farran’s Seminar Coordinator is: Rebecca Parent rebecca@farranmedia.com
URL:https://www.howardfarran.com/event/asteto-dental-labs/
END:VEVENT
END:VCALENDAR