﻿BEGIN:VCALENDAR
VERSION:2.0
PRODID:-//HowardFarran.com - ECPv5.2.1.1//NONSGML v1.0//EN
CALSCALE:GREGORIAN
METHOD:PUBLISH
X-WR-CALNAME:HowardFarran.com
X-ORIGINAL-URL:https://www.howardfarran.com
X-WR-CALDESC:Events for HowardFarran.com
BEGIN:VTIMEZONE
TZID:America/Phoenix
BEGIN:STANDARD
TZOFFSETFROM:-0700
TZOFFSETTO:-0700
TZNAME:MST
DTSTART:20190101T000000
END:STANDARD
END:VTIMEZONE
BEGIN:VEVENT
DTSTART;TZID=America/Phoenix:20190308T080000
DTEND;TZID=America/Phoenix:20190308T170000
DTSTAMP:20260425T103344
CREATED:20181114T191855Z
LAST-MODIFIED:20181114T191925Z
UID:5842-1552032000-1552064400@www.howardfarran.com
SUMMARY:Atlantic Coast District Dental Association\, Palm Beach FL
DESCRIPTION:See Howard Speak at the ACDDA Annual Conference in West Palm Beach Florida.  To register contact k.corrado@acdda.org  phone 561-968-7714
URL:https://www.howardfarran.com/event/atlanti-coast-district-dental-association-palm-beach-fl/
LOCATION:Embassy Suite hotel\, West Palm Beach \, FL\, United States
END:VEVENT
END:VCALENDAR