﻿BEGIN:VCALENDAR
VERSION:2.0
PRODID:-//HowardFarran.com - ECPv5.2.1.1//NONSGML v1.0//EN
CALSCALE:GREGORIAN
METHOD:PUBLISH
X-WR-CALNAME:HowardFarran.com
X-ORIGINAL-URL:https://www.howardfarran.com
X-WR-CALDESC:Events for HowardFarran.com
BEGIN:VTIMEZONE
TZID:America/Phoenix
BEGIN:STANDARD
TZOFFSETFROM:-0700
TZOFFSETTO:-0700
TZNAME:MST
DTSTART:20150101T000000
END:STANDARD
END:VTIMEZONE
BEGIN:VEVENT
DTSTART;VALUE=DATE:20150313
DTEND;VALUE=DATE:20150314
DTSTAMP:20260425T103352
CREATED:20140703T205913Z
LAST-MODIFIED:20150430T221149Z
UID:4084-1426204800-1426291199@www.howardfarran.com
SUMMARY:Benco Dental Open House - Cranberry Township\, PA
DESCRIPTION:For more information on seeing Howard speak at this event:  \nBenco Dental Open House\nAnna Brode\n724-776-5660 ext. 83021\nabrode@benco.com \n \n\nDr. Farran’s Seminar Coordinator is:\nRebecca Parent\nrebecca@farranmedia.com
URL:https://www.howardfarran.com/event/benco-dental-open-house-cranberry-township-pa/
LOCATION:The Regional Learning Alliance\, 850 Cranberry Woods Drive\, Cranberry Township\, PA\, 16066\, United States
CATEGORIES:2015 Lecture Schedule
END:VEVENT
END:VCALENDAR