﻿BEGIN:VCALENDAR
VERSION:2.0
PRODID:-//HowardFarran.com - ECPv5.2.1.1//NONSGML v1.0//EN
CALSCALE:GREGORIAN
METHOD:PUBLISH
X-WR-CALNAME:HowardFarran.com
X-ORIGINAL-URL:https://www.howardfarran.com
X-WR-CALDESC:Events for HowardFarran.com
BEGIN:VTIMEZONE
TZID:America/Phoenix
BEGIN:STANDARD
TZOFFSETFROM:-0700
TZOFFSETTO:-0700
TZNAME:MST
DTSTART:20130101T000000
END:STANDARD
END:VTIMEZONE
BEGIN:VEVENT
DTSTART;VALUE=DATE:20130911
DTEND;VALUE=DATE:20130912
DTSTAMP:20260425T164222
CREATED:20121108T210532Z
LAST-MODIFIED:20150430T223816Z
UID:1961-1378857600-1378943999@www.howardfarran.com
SUMMARY:Chicago AGD - Chicago\, IL
DESCRIPTION:For more information on this lecture: \nWilliam Kisker – 847-918-0001 \nkiskerwi@hotmail.com \n  \nDr. Farran’s Seminar Coordinator is: \nRebecca Parent – 480-445-9712 \nrebecca@farranmedia.com
URL:https://www.howardfarran.com/event/chicago-agd-chicago-il/
CATEGORIES:2013 Lecture Schedule
END:VEVENT
END:VCALENDAR