﻿BEGIN:VCALENDAR
VERSION:2.0
PRODID:-//HowardFarran.com - ECPv5.2.1.1//NONSGML v1.0//EN
CALSCALE:GREGORIAN
METHOD:PUBLISH
X-WR-CALNAME:HowardFarran.com
X-ORIGINAL-URL:https://www.howardfarran.com
X-WR-CALDESC:Events for HowardFarran.com
BEGIN:VTIMEZONE
TZID:America/Phoenix
BEGIN:STANDARD
TZOFFSETFROM:-0700
TZOFFSETTO:-0700
TZNAME:MST
DTSTART:20140101T000000
END:STANDARD
END:VTIMEZONE
BEGIN:VEVENT
DTSTART;VALUE=DATE:20141003
DTEND;VALUE=DATE:20141004
DTSTAMP:20260425T193533
CREATED:20140709T182313Z
LAST-MODIFIED:20150430T221946Z
UID:4088-1412294400-1412380799@www.howardfarran.com
SUMMARY:Dental Summit Nashville - Nashville\, TN
DESCRIPTION:For more information on seeing Howard speak at this event:  \nDental Summit Nashville\n615-883-7800\ninfo@dentalsummitnashville.com\nhttp://www.dentalsummitnashville.com/\n10/3/2014 & 10/4/2014\nMusic City Center\n201 5th Avenue South\nNashville\, TN 37203\n \n \n\nDr. Farran’s Seminar Coordinator is:\nRebecca Parent\nrebecca@farranmedia.com \n 
URL:https://www.howardfarran.com/event/dental-summit-nashville-nashville-tn/
LOCATION:Music City Center\, 201 5th Avenue South\, Nashville\, 37203\, United States
CATEGORIES:2014 Lecture Schedule
END:VEVENT
END:VCALENDAR