﻿BEGIN:VCALENDAR
VERSION:2.0
PRODID:-//HowardFarran.com - ECPv5.2.1.1//NONSGML v1.0//EN
CALSCALE:GREGORIAN
METHOD:PUBLISH
X-WR-CALNAME:HowardFarran.com
X-ORIGINAL-URL:https://www.howardfarran.com
X-WR-CALDESC:Events for HowardFarran.com
BEGIN:VTIMEZONE
TZID:America/Phoenix
BEGIN:STANDARD
TZOFFSETFROM:-0700
TZOFFSETTO:-0700
TZNAME:MST
DTSTART:20130101T000000
END:STANDARD
END:VTIMEZONE
BEGIN:VEVENT
DTSTART;VALUE=DATE:20131114
DTEND;VALUE=DATE:20131115
DTSTAMP:20260425T103340
CREATED:20121108T210651Z
LAST-MODIFIED:20150430T223332Z
UID:1971-1384387200-1384473599@www.howardfarran.com
SUMMARY:Greater St. Louis Dental Society - St. Louis\, MO
DESCRIPTION:For more information on this lecture: \nwww.gslds.org \n  \nDr. Farran’s Seminar Coordinator is: \nRebecca Parent – 480-445-9712 \nrebecca@farranmedia.com
URL:https://www.howardfarran.com/event/greater-st-louis-dental-society-st-louis-mo/
CATEGORIES:2013 Lecture Schedule
END:VEVENT
END:VCALENDAR