﻿BEGIN:VCALENDAR
VERSION:2.0
PRODID:-//HowardFarran.com - ECPv5.2.1.1//NONSGML v1.0//EN
CALSCALE:GREGORIAN
METHOD:PUBLISH
X-WR-CALNAME:HowardFarran.com
X-ORIGINAL-URL:https://www.howardfarran.com
X-WR-CALDESC:Events for HowardFarran.com
BEGIN:VTIMEZONE
TZID:Europe/Amsterdam
BEGIN:DAYLIGHT
TZOFFSETFROM:+0100
TZOFFSETTO:+0200
TZNAME:CEST
DTSTART:20160327T010000
END:DAYLIGHT
BEGIN:STANDARD
TZOFFSETFROM:+0200
TZOFFSETTO:+0100
TZNAME:CET
DTSTART:20161030T010000
END:STANDARD
END:VTIMEZONE
BEGIN:VEVENT
DTSTART;TZID=Europe/Amsterdam:20160624T080000
DTEND;TZID=Europe/Amsterdam:20160624T170000
DTSTAMP:20260425T180817
CREATED:20160204T201824Z
LAST-MODIFIED:20160425T214025Z
UID:5686-1466755200-1466787600@www.howardfarran.com
SUMMARY:MacScot LTD- Glasgow Scottland
DESCRIPTION:For more information on this lecture contact: https://www.eventbrite.co.uk/e/uncomplicate-business-with-dr-howard-farran-glasgow-tickets-20960607742?aff=erelorgpanelorg \nDr. Farran’s Seminar Coordinator is: Rebecca Parent rebecca@farranmedia.com
URL:https://www.howardfarran.com/event/macscot-ltd-glasgow-scottland/
END:VEVENT
END:VCALENDAR