﻿BEGIN:VCALENDAR
VERSION:2.0
PRODID:-//HowardFarran.com - ECPv5.2.1.1//NONSGML v1.0//EN
CALSCALE:GREGORIAN
METHOD:PUBLISH
X-WR-CALNAME:HowardFarran.com
X-ORIGINAL-URL:https://www.howardfarran.com
X-WR-CALDESC:Events for HowardFarran.com
BEGIN:VTIMEZONE
TZID:America/Phoenix
BEGIN:STANDARD
TZOFFSETFROM:-0700
TZOFFSETTO:-0700
TZNAME:MST
DTSTART:20140101T000000
END:STANDARD
END:VTIMEZONE
BEGIN:VEVENT
DTSTART;VALUE=DATE:20140506
DTEND;VALUE=DATE:20140507
DTSTAMP:20260425T053649
CREATED:20140114T230921Z
LAST-MODIFIED:20150430T222628Z
UID:3864-1399334400-1399420799@www.howardfarran.com
SUMMARY:National Council for Prescription Drug Programs Annual Technology & Business Conference
DESCRIPTION:For more information on this lecture:  \nNDEDIC\nwww.ncpdp.org \nLocation:\nWestin Kierland Resort & Spa\n6902 E. Greenway Parkway\nScottsdale\, AZ 85260 \n\nDr. Farran’s Seminar Coordinator is:\nRebecca Parent\nrebecca@farranmedia.com \n 
URL:https://www.howardfarran.com/event/national-council-for-prescription-drug-programs-annual-technology-business-conference/
LOCATION:Westin Kierland Resort & Spa\, 6902 E. Greenway Parkway\, Scottsdale\, AZ\, 85260\, United States
CATEGORIES:2014 Lecture Schedule
END:VEVENT
END:VCALENDAR