﻿BEGIN:VCALENDAR
VERSION:2.0
PRODID:-//HowardFarran.com - ECPv5.2.1.1//NONSGML v1.0//EN
CALSCALE:GREGORIAN
METHOD:PUBLISH
X-WR-CALNAME:HowardFarran.com
X-ORIGINAL-URL:https://www.howardfarran.com
X-WR-CALDESC:Events for HowardFarran.com
BEGIN:VTIMEZONE
TZID:America/Phoenix
BEGIN:STANDARD
TZOFFSETFROM:-0700
TZOFFSETTO:-0700
TZNAME:MST
DTSTART:20130101T000000
END:STANDARD
END:VTIMEZONE
BEGIN:VEVENT
DTSTART;VALUE=DATE:20131017
DTEND;VALUE=DATE:20131018
DTSTAMP:20260425T084906
CREATED:20130205T202408Z
LAST-MODIFIED:20150430T223433Z
UID:3432-1381968000-1382054399@www.howardfarran.com
SUMMARY:NJHPDI South Jersey Event - Mt. Laurel\, NJ
DESCRIPTION:For more information on this lecture: \nNew Jersey Health Professionals Development Institute\nwww.njhpdi.com \nSam Freundlich\, Strategic Development Coordinator\n201-342-2204 \n  \nDr. Farran’s Seminar Coordinator is:\nRebecca Parent\nrebecca@farranmedia.com
URL:https://www.howardfarran.com/event/new-jersey-health-professionals-mt-laurel-nj/
LOCATION:Aloft Mt. Laurel\, 558 Fellowship Rd\, Mt. Laurel\, NJ\, 08054\, United States
CATEGORIES:2013 Lecture Schedule
ORGANIZER;CN="NJHPDI":MAILTO:info@njhpdi.com
END:VEVENT
END:VCALENDAR