﻿BEGIN:VCALENDAR
VERSION:2.0
PRODID:-//HowardFarran.com - ECPv5.2.1.1//NONSGML v1.0//EN
CALSCALE:GREGORIAN
METHOD:PUBLISH
X-WR-CALNAME:HowardFarran.com
X-ORIGINAL-URL:https://www.howardfarran.com
X-WR-CALDESC:Events for HowardFarran.com
BEGIN:VTIMEZONE
TZID:America/Phoenix
BEGIN:STANDARD
TZOFFSETFROM:-0700
TZOFFSETTO:-0700
TZNAME:MST
DTSTART:20140101T000000
END:STANDARD
END:VTIMEZONE
BEGIN:VEVENT
DTSTART;VALUE=DATE:20140228
DTEND;VALUE=DATE:20140301
DTSTAMP:20260425T180946
CREATED:20140107T220734Z
LAST-MODIFIED:20150430T222939Z
UID:3854-1393545600-1393631999@www.howardfarran.com
SUMMARY:Oklahoma Academy of General Dentistr
DESCRIPTION:For more information on this lecture:  \nOklahoma Academy of General Dentistry\nhttp://www.oagd.org/ \n \nLocation:\nTower Hotel Oklahoma City\n3233 NW Expressway\nOklahoma City\, OK 73112 \n  \nDr. Farran’s Seminar Coordinator is:\nRebecca Parent\nrebecca@farranmedia.com
URL:https://www.howardfarran.com/event/oklahoma-academy-of-general-dentistr/
LOCATION:Tower Hotel Oklahoma City\, 3233 NW Expressway\, Oklahoma City\, OK\, 73112\, United States
CATEGORIES:2014 Lecture Schedule
END:VEVENT
END:VCALENDAR