﻿BEGIN:VCALENDAR
VERSION:2.0
PRODID:-//HowardFarran.com - ECPv5.2.1.1//NONSGML v1.0//EN
CALSCALE:GREGORIAN
METHOD:PUBLISH
X-WR-CALNAME:HowardFarran.com
X-ORIGINAL-URL:https://www.howardfarran.com
X-WR-CALDESC:Events for HowardFarran.com
BEGIN:VTIMEZONE
TZID:America/Phoenix
BEGIN:STANDARD
TZOFFSETFROM:-0700
TZOFFSETTO:-0700
TZNAME:MST
DTSTART:20160101T000000
END:STANDARD
END:VTIMEZONE
BEGIN:VEVENT
DTSTART;TZID=America/Phoenix:20160415T080000
DTEND;TZID=America/Phoenix:20160415T170000
DTSTAMP:20260425T103350
CREATED:20151116T185005Z
LAST-MODIFIED:20151116T185005Z
UID:5647-1460707200-1460739600@www.howardfarran.com
SUMMARY:Onondaga County Dental Society\, Syracuse\, NY
DESCRIPTION:For more information and to see Howard speak: \nOnondaga Dental Society Contact:Dr Beth Payer at blpayer@hotmail.com \n  \nSeminar: Friday April 15th 8am-5pm \n  \nDr Farran’s Seminar Coordinator is: Rebecca Parent \nrebecca@farranmedia.com
URL:https://www.howardfarran.com/event/onondaga-county-dental-society-syracuse-ny/
LOCATION:Sheraton Syracuse University Hotel & Conference Center\, 801 University Ave\, Syracuse\, 13210\, United States
END:VEVENT
END:VCALENDAR