﻿BEGIN:VCALENDAR
VERSION:2.0
PRODID:-//HowardFarran.com - ECPv5.2.1.1//NONSGML v1.0//EN
CALSCALE:GREGORIAN
METHOD:PUBLISH
X-WR-CALNAME:HowardFarran.com
X-ORIGINAL-URL:https://www.howardfarran.com
X-WR-CALDESC:Events for HowardFarran.com
BEGIN:VTIMEZONE
TZID:America/Phoenix
BEGIN:STANDARD
TZOFFSETFROM:-0700
TZOFFSETTO:-0700
TZNAME:MST
DTSTART:20140101T000000
END:STANDARD
END:VTIMEZONE
BEGIN:VEVENT
DTSTART;VALUE=DATE:20140314
DTEND;VALUE=DATE:20140315
DTSTAMP:20260425T180934
CREATED:20130221T181803Z
LAST-MODIFIED:20150430T222908Z
UID:3477-1394755200-1394841599@www.howardfarran.com
SUMMARY:Orange County Dental Society - Costa Mesa\, CA
DESCRIPTION:For more information on this lecture:  \nOrange County Dental Society\nwww.ocds.org \nWestin South Coast Plaza\n686 Anton Blvd.\nCosta Mesa\, CA 92626 \n \nDr. Farran’s Seminar Coordinator is:\nRebecca Parent\nrebecca@farranmedia.com
URL:https://www.howardfarran.com/event/orange-county-dental-society-irvine-ca/
LOCATION:Westin South Coast Plaza\, 686 Anton Blvd.\, Costa Mesa\, CA\, 92626\, United States
CATEGORIES:2014 Lecture Schedule
END:VEVENT
END:VCALENDAR