﻿BEGIN:VCALENDAR
VERSION:2.0
PRODID:-//HowardFarran.com - ECPv5.2.1.1//NONSGML v1.0//EN
CALSCALE:GREGORIAN
METHOD:PUBLISH
X-WR-CALNAME:HowardFarran.com
X-ORIGINAL-URL:https://www.howardfarran.com
X-WR-CALDESC:Events for HowardFarran.com
BEGIN:VTIMEZONE
TZID:America/Phoenix
BEGIN:STANDARD
TZOFFSETFROM:-0700
TZOFFSETTO:-0700
TZNAME:MST
DTSTART:20140101T000000
END:STANDARD
END:VTIMEZONE
BEGIN:VEVENT
DTSTART;VALUE=DATE:20140531
DTEND;VALUE=DATE:20140601
DTSTAMP:20260425T040304
CREATED:20130625T190613Z
LAST-MODIFIED:20150430T222408Z
UID:3642-1401494400-1401580799@www.howardfarran.com
SUMMARY:Poland International Association for Orthodontics - Warsaw\, Poland
DESCRIPTION:For more information on this lecture:  \nPoland International Association for Orthodontics\nwww.iaortho.pl\nRomuald Ciesielski \n  \nDr. Farran’s Seminar Coordinator is:\nRebecca Parent\nrebecca@farranmedia.com
URL:https://www.howardfarran.com/event/poland-international-association-for-orthodontics-warsaw-poland/
LOCATION:Warsaw Marriott Hotel\, Al. Jerozolimskie 65/79\, Warsaw\, 00-697\, Poland
CATEGORIES:2014 Lecture Schedule
END:VEVENT
END:VCALENDAR