﻿BEGIN:VCALENDAR
VERSION:2.0
PRODID:-//HowardFarran.com - ECPv5.2.1.1//NONSGML v1.0//EN
CALSCALE:GREGORIAN
METHOD:PUBLISH
X-WR-CALNAME:HowardFarran.com
X-ORIGINAL-URL:https://www.howardfarran.com
X-WR-CALDESC:Events for HowardFarran.com
BEGIN:VTIMEZONE
TZID:America/Phoenix
BEGIN:STANDARD
TZOFFSETFROM:-0700
TZOFFSETTO:-0700
TZNAME:MST
DTSTART:20180101T000000
END:STANDARD
END:VTIMEZONE
BEGIN:VEVENT
DTSTART;TZID=America/Phoenix:20180504T080000
DTEND;TZID=America/Phoenix:20180504T170000
DTSTAMP:20260425T180847
CREATED:20171212T175124Z
LAST-MODIFIED:20180423T180531Z
UID:5808-1525420800-1525453200@www.howardfarran.com
SUMMARY:Riverside/Corona Study Club
DESCRIPTION:For more information about this event please contact: Jim Minatello at 951-279-7847 or email drmiddleton@gmdental.com \n 
URL:https://www.howardfarran.com/event/riversidecorona-study-club/
LOCATION:Victoria Golf Club\, 2521 Arroyo Dr\, Riverside\, CA\, 92506\, United States
END:VEVENT
END:VCALENDAR