﻿BEGIN:VCALENDAR
VERSION:2.0
PRODID:-//HowardFarran.com - ECPv5.2.1.1//NONSGML v1.0//EN
CALSCALE:GREGORIAN
METHOD:PUBLISH
X-WR-CALNAME:HowardFarran.com
X-ORIGINAL-URL:https://www.howardfarran.com
X-WR-CALDESC:Events for HowardFarran.com
BEGIN:VTIMEZONE
TZID:America/Phoenix
BEGIN:STANDARD
TZOFFSETFROM:-0700
TZOFFSETTO:-0700
TZNAME:MST
DTSTART:20200101T000000
END:STANDARD
END:VTIMEZONE
BEGIN:VEVENT
DTSTART;VALUE=DATE:20200111
DTEND;VALUE=DATE:20200112
DTSTAMP:20260425T103404
CREATED:20190812T203545Z
LAST-MODIFIED:20190812T203545Z
UID:5868-1578700800-1578787199@www.howardfarran.com
SUMMARY:Sunset Oral & Maxillofacial Group\, Portland OR
DESCRIPTION:See Dr Farran speak for  the Sunset Oral and Maxillofacial Surgery group. \nContact person: Amy   email: amyg@sunsetoms.com
URL:https://www.howardfarran.com/event/sunset-oral-maxillofacial-group-portland-or/
END:VEVENT
END:VCALENDAR