﻿BEGIN:VCALENDAR
VERSION:2.0
PRODID:-//HowardFarran.com - ECPv5.2.1.1//NONSGML v1.0//EN
CALSCALE:GREGORIAN
METHOD:PUBLISH
X-WR-CALNAME:HowardFarran.com
X-ORIGINAL-URL:https://www.howardfarran.com
X-WR-CALDESC:Events for HowardFarran.com
BEGIN:VTIMEZONE
TZID:America/Phoenix
BEGIN:STANDARD
TZOFFSETFROM:-0700
TZOFFSETTO:-0700
TZNAME:MST
DTSTART:20150101T000000
END:STANDARD
END:VTIMEZONE
BEGIN:VEVENT
DTSTART;VALUE=DATE:20150605
DTEND;VALUE=DATE:20150606
DTSTAMP:20260425T103407
CREATED:20140624T192313Z
LAST-MODIFIED:20150430T221000Z
UID:4076-1433462400-1433548799@www.howardfarran.com
SUMMARY:Texas AGD's New Dentist Conference - Austin\, TX
DESCRIPTION:For more information on seeing Howard speak at this event:  \nTexas AGD\nwww.tagd.org/ndc \n6/5/2015\nOmni Southpark\n4140 Governors Row\nAustin\, TX 78744 \n\n\nDr. Farran’s Seminar Coordinator is:\nRebecca Parent\nrebecca@farranmedia.com
URL:https://www.howardfarran.com/event/texas-agds-new-dentist-conference-austin-tx/
LOCATION:Omni Southpark\, 4140 Governors Row\, Austin\, TX\, 78744\, United States
CATEGORIES:2015 Lecture Schedule
END:VEVENT
END:VCALENDAR