﻿BEGIN:VCALENDAR
VERSION:2.0
PRODID:-//HowardFarran.com - ECPv5.2.1.1//NONSGML v1.0//EN
CALSCALE:GREGORIAN
METHOD:PUBLISH
X-WR-CALNAME:HowardFarran.com
X-ORIGINAL-URL:https://www.howardfarran.com
X-WR-CALDESC:Events for HowardFarran.com
BEGIN:VTIMEZONE
TZID:America/Phoenix
BEGIN:STANDARD
TZOFFSETFROM:-0700
TZOFFSETTO:-0700
TZNAME:MST
DTSTART:20130101T000000
END:STANDARD
END:VTIMEZONE
BEGIN:VEVENT
DTSTART;TZID=America/Phoenix:20130221T090000
DTEND;TZID=America/Phoenix:20130221T120000
DTSTAMP:20260425T103339
CREATED:20121108T210115Z
LAST-MODIFIED:20150430T224423Z
UID:1921-1361437200-1361448000@www.howardfarran.com
SUMMARY:The Dental Success Meeting - Scottsdale\, AZ
DESCRIPTION:For more information on this lecture: \nAshley Evans – 928-910-3599 \nashlee@truedentalsuccess.com \n  \nDr. Farran’s Seminar Coordinator is: \nRebecca Parent- 480-445-9712 \nrebecca@farranmedia.com
URL:https://www.howardfarran.com/event/the-dental-success-meeting-scottsdale-az/
CATEGORIES:2013 Lecture Schedule
END:VEVENT
END:VCALENDAR