﻿BEGIN:VCALENDAR
VERSION:2.0
PRODID:-//HowardFarran.com - ECPv5.2.1.1//NONSGML v1.0//EN
CALSCALE:GREGORIAN
METHOD:PUBLISH
X-WR-CALNAME:HowardFarran.com
X-ORIGINAL-URL:https://www.howardfarran.com
X-WR-CALDESC:Events for HowardFarran.com
BEGIN:VTIMEZONE
TZID:America/Phoenix
BEGIN:STANDARD
TZOFFSETFROM:-0700
TZOFFSETTO:-0700
TZNAME:MST
DTSTART:20170101T000000
END:STANDARD
END:VTIMEZONE
BEGIN:VEVENT
DTSTART;TZID=America/Phoenix:20170419T080000
DTEND;TZID=America/Phoenix:20170422T170000
DTSTAMP:20260425T133836
CREATED:20161014T185841Z
LAST-MODIFIED:20170405T014621Z
UID:5735-1492588800-1492880400@www.howardfarran.com
SUMMARY:Townie Meeting 2017
DESCRIPTION:For more information on this lecture:  http://www.towniemeeting.com/session/late-night-dr-howard-farran/ \nSEE HOWARD SPEAK FRIDAY \, April 21\, 2017 from 5-6:30pm \nDr. Farran’s Seminar Coordinator is: Rebecca Parent rebecca@farranmedia.com
URL:https://www.howardfarran.com/event/townie-meeting-2017/
END:VEVENT
END:VCALENDAR