﻿BEGIN:VCALENDAR
VERSION:2.0
PRODID:-//HowardFarran.com - ECPv5.2.1.1//NONSGML v1.0//EN
CALSCALE:GREGORIAN
METHOD:PUBLISH
X-WR-CALNAME:HowardFarran.com
X-ORIGINAL-URL:https://www.howardfarran.com
X-WR-CALDESC:Events for HowardFarran.com
BEGIN:VTIMEZONE
TZID:America/Phoenix
BEGIN:STANDARD
TZOFFSETFROM:-0700
TZOFFSETTO:-0700
TZNAME:MST
DTSTART:20130101T000000
END:STANDARD
END:VTIMEZONE
BEGIN:VEVENT
DTSTART;VALUE=DATE:20130418
DTEND;VALUE=DATE:20130419
DTSTAMP:20260425T085307
CREATED:20121108T210313Z
LAST-MODIFIED:20150430T224251Z
UID:1941-1366243200-1366329599@www.howardfarran.com
SUMMARY:Townie Meeting - Las Vegas\, NV
DESCRIPTION:For more information on this lecture: \nwww.towniemeeting.com \n  \nDr. Farran’s Seminar Coordinator is: \nRebecca Parent- 480-445-9712 \nrebecca@farranmedia.com
URL:https://www.howardfarran.com/event/townie-meeting-las-vegas-nv/
CATEGORIES:2013 Lecture Schedule
END:VEVENT
END:VCALENDAR