﻿BEGIN:VCALENDAR
VERSION:2.0
PRODID:-//HowardFarran.com - ECPv5.2.1.1//NONSGML v1.0//EN
CALSCALE:GREGORIAN
METHOD:PUBLISH
X-WR-CALNAME:HowardFarran.com
X-ORIGINAL-URL:https://www.howardfarran.com
X-WR-CALDESC:Events for HowardFarran.com
BEGIN:VTIMEZONE
TZID:America/Phoenix
BEGIN:STANDARD
TZOFFSETFROM:-0700
TZOFFSETTO:-0700
TZNAME:MST
DTSTART:20180101T000000
END:STANDARD
END:VTIMEZONE
BEGIN:VEVENT
DTSTART;TZID=America/Phoenix:20180411T080000
DTEND;TZID=America/Phoenix:20180414T170000
DTSTAMP:20260425T180940
CREATED:20171010T172751Z
LAST-MODIFIED:20171106T164712Z
UID:5793-1523433600-1523725200@www.howardfarran.com
SUMMARY:TOWNIE MEETING ORLANDO FLORIDA
DESCRIPTION:To register : http://www.cvent.com/events/townie-meeting-2018/event-summary-160a09f006364cacbd4df5aec424c6bb.aspx?refid=TMW&fqp=true \nHilton Bonnet Creek\n14100 Bonnet Creek Resort Lane\nOrlando\, Florida 32821\nUSA\n407-597-3600
URL:https://www.howardfarran.com/event/townie-meeting-orlando-florida/
LOCATION:Hilton Bonnet Creek\, 14100 Bonnet Creek Resort Lane\, Orlando\, Florida 32821\, 32821
END:VEVENT
END:VCALENDAR