﻿BEGIN:VCALENDAR
VERSION:2.0
PRODID:-//HowardFarran.com - ECPv5.2.1.1//NONSGML v1.0//EN
CALSCALE:GREGORIAN
METHOD:PUBLISH
X-WR-CALNAME:HowardFarran.com
X-ORIGINAL-URL:https://www.howardfarran.com
X-WR-CALDESC:Events for HowardFarran.com
BEGIN:VTIMEZONE
TZID:America/Phoenix
BEGIN:STANDARD
TZOFFSETFROM:-0700
TZOFFSETTO:-0700
TZNAME:MST
DTSTART:20170101T000000
END:STANDARD
END:VTIMEZONE
BEGIN:VEVENT
DTSTART;TZID=America/Phoenix:20170127T080000
DTEND;TZID=America/Phoenix:20170127T150000
DTSTAMP:20260425T204458
CREATED:20160818T210445Z
LAST-MODIFIED:20160818T210445Z
UID:5717-1485504000-1485529200@www.howardfarran.com
SUMMARY:Tulsa County Dental Society
DESCRIPTION:For more information on this lecture: Contact Rhonda OBrien ph 918-991-8077 \nDr. Farran’s Seminar Coordinator is: Rebecca Parent rebecca@farranmedia.com
URL:https://www.howardfarran.com/event/tulsa-county-dental-society/
LOCATION:Crowne Plaza Tulsa\, 7902 S Lewis Ave\, Tulsa\, OK\, 74136\, United States
END:VEVENT
END:VCALENDAR