﻿BEGIN:VCALENDAR
VERSION:2.0
PRODID:-//HowardFarran.com - ECPv5.2.1.1//NONSGML v1.0//EN
CALSCALE:GREGORIAN
METHOD:PUBLISH
X-WR-CALNAME:HowardFarran.com
X-ORIGINAL-URL:https://www.howardfarran.com
X-WR-CALDESC:Events for HowardFarran.com
BEGIN:VTIMEZONE
TZID:America/Phoenix
BEGIN:STANDARD
TZOFFSETFROM:-0700
TZOFFSETTO:-0700
TZNAME:MST
DTSTART:20140101T000000
END:STANDARD
END:VTIMEZONE
BEGIN:VEVENT
DTSTART;VALUE=DATE:20141024
DTEND;VALUE=DATE:20141025
DTSTAMP:20260425T180937
CREATED:20131206T174022Z
LAST-MODIFIED:20150430T221616Z
UID:3819-1414108800-1414195199@www.howardfarran.com
SUMMARY:West Michigan District Dental Society
DESCRIPTION:For more information on this lecture:  \nWest Michigan District Dental Society\nwww.wmdds.org \nElaine Fleming\nefwmdds@aol.com\n616-234-5605 \nFrederik Meijer Gardens & Sculpture Park\n1000 E. Beltline Avenue NE\nGrand Rapids\, MI 49525 \n  \nDr. Farran’s Seminar Coordinator is:\nRebecca Parent\nrebecca@farranmedia.com
URL:https://www.howardfarran.com/event/west-michigan-district-dental-society/
LOCATION:Frederik Meijer Gardens & Sculpture Park\, 1000 E. Beltline Avenue NE\, Grand Rapids\, MI\, 49525\, United States
CATEGORIES:2014 Lecture Schedule
ORGANIZER;CN="West%20Michigan%20District%20Dental%20Society":MAILTO:efwmdds@aol.com
END:VEVENT
END:VCALENDAR