﻿BEGIN:VCALENDAR
VERSION:2.0
PRODID:-//HowardFarran.com - ECPv5.2.1.1//NONSGML v1.0//EN
CALSCALE:GREGORIAN
METHOD:PUBLISH
X-WR-CALNAME:HowardFarran.com
X-ORIGINAL-URL:https://www.howardfarran.com
X-WR-CALDESC:Events for HowardFarran.com
BEGIN:VTIMEZONE
TZID:America/Phoenix
BEGIN:STANDARD
TZOFFSETFROM:-0700
TZOFFSETTO:-0700
TZNAME:MST
DTSTART:20140101T000000
END:STANDARD
END:VTIMEZONE
BEGIN:VEVENT
DTSTART;TZID=America/Phoenix:20140403T180000
DTEND;TZID=America/Phoenix:20140403T200000
DTSTAMP:20260425T164310
CREATED:20131209T230251Z
LAST-MODIFIED:20150430T222839Z
UID:3824-1396548000-1396555200@www.howardfarran.com
SUMMARY:Western Regional Dental Convention
DESCRIPTION:For more information on this lecture:  \nArizona Dental Association\nWestern Regional Dental Convention\nwww.westernregional.org\nwww.azda.org\n480-344-5777 \nPhoenix Convention Center\n100 N. 3rd Street\nPhoenix\, AZ 85004 \n  \nDr. Farran’s Seminar Coordinator is:\nRebecca Parent\nrebecca@farranmedia.com \n 
URL:https://www.howardfarran.com/event/western-regional-dental-convention/
LOCATION:Phoenix Convention Center\, 100 N. 3rd Street\, Phoenix\, AZ\, 85004\, United States
CATEGORIES:2014 Lecture Schedule
END:VEVENT
END:VCALENDAR