﻿BEGIN:VCALENDAR
VERSION:2.0
PRODID:-//HowardFarran.com - ECPv5.2.1.1//NONSGML v1.0//EN
CALSCALE:GREGORIAN
METHOD:PUBLISH
X-WR-CALNAME:HowardFarran.com
X-ORIGINAL-URL:https://www.howardfarran.com
X-WR-CALDESC:Events for HowardFarran.com
BEGIN:VTIMEZONE
TZID:America/Phoenix
BEGIN:STANDARD
TZOFFSETFROM:-0700
TZOFFSETTO:-0700
TZNAME:MST
DTSTART:20180101T000000
END:STANDARD
END:VTIMEZONE
BEGIN:VEVENT
DTSTART;TZID=America/Phoenix:20180615T080000
DTEND;TZID=America/Phoenix:20180615T170000
DTSTAMP:20260425T103402
CREATED:20171010T171658Z
LAST-MODIFIED:20180222T182203Z
UID:5792-1529049600-1529082000@www.howardfarran.com
SUMMARY:Wyoming Dental Association\, Jackson Hole WY
DESCRIPTION:For more information: Diane Bouzis  ph 307-277-1507  email wyodental@gmail.com \nHoward will speak at the 2018 Annual Convention at Snow King Resort in Jackson\, Wyoming on Friday\, June 15th. \nGo to:  http://www.wyda.org/ \n 
URL:https://www.howardfarran.com/event/wyoming-dental-association-jackson-hole-wy/
END:VEVENT
END:VCALENDAR